BEGIN:VCALENDAR
VERSION:2.0
PRODID:-//Living Lakes Canada - ECPv6.15.16//NONSGML v1.0//EN
CALSCALE:GREGORIAN
METHOD:PUBLISH
X-WR-CALNAME:Living Lakes Canada
X-ORIGINAL-URL:https://livinglakescanada.ca
X-WR-CALDESC:Events for Living Lakes Canada
REFRESH-INTERVAL;VALUE=DURATION:PT1H
X-Robots-Tag:noindex
X-PUBLISHED-TTL:PT1H
BEGIN:VTIMEZONE
TZID:America/Vancouver
BEGIN:DAYLIGHT
TZOFFSETFROM:-0800
TZOFFSETTO:-0700
TZNAME:PDT
DTSTART:20240310T100000
END:DAYLIGHT
BEGIN:STANDARD
TZOFFSETFROM:-0700
TZOFFSETTO:-0800
TZNAME:PST
DTSTART:20241103T090000
END:STANDARD
BEGIN:DAYLIGHT
TZOFFSETFROM:-0800
TZOFFSETTO:-0700
TZNAME:PDT
DTSTART:20250309T100000
END:DAYLIGHT
BEGIN:STANDARD
TZOFFSETFROM:-0700
TZOFFSETTO:-0800
TZNAME:PST
DTSTART:20251102T090000
END:STANDARD
BEGIN:DAYLIGHT
TZOFFSETFROM:-0800
TZOFFSETTO:-0700
TZNAME:PDT
DTSTART:20260308T100000
END:DAYLIGHT
BEGIN:STANDARD
TZOFFSETFROM:-0700
TZOFFSETTO:-0800
TZNAME:PST
DTSTART:20261101T090000
END:STANDARD
END:VTIMEZONE
BEGIN:VEVENT
DTSTART;TZID=America/Vancouver:20250525T090000
DTEND;TZID=America/Vancouver:20250529T160000
DTSTAMP:20260422T022050
CREATED:20250510T234801Z
LAST-MODIFIED:20250518T172747Z
UID:10000015-1748163600-1748534400@livinglakescanada.ca
SUMMARY:Canadian Water Resources Association National Conference
DESCRIPTION:The theme of the Canadian Water Resources Association’s 2025 national conference is “Living Between Waters – Connecting Water & Resilience.” The focus will be on collaborating across silos\, respecting and upholding Indigenous rights; and the roles of municipalities\, governments\, and industry play in advancing resiliency. \nRepresenting Living Lakes Canada\, Arlo Bryn-Thorn\, Columbia Basin Water Monitoring Framework Program Manager\, and Braeden Toikka\, Water Monitoring Coordinator\, will present “Water security through community-directed monitoring in the Canadian Columbia Basin: Democratizing watershed data.” This presentation will take place on May 27th at 3:30pm PDT and will detail the methods behind the development of this community-driven project\, and share some of the preliminary findings and outcomes for integrated water management.  \nEmail contact: arlo.bryn-thorn@livinglakescanada.ca
URL:https://livinglakescanada.ca/event-featured/canadian-water-resources-association-national-conference
LOCATION:Penticton\, Penticton\, B.C.\, Canada
END:VEVENT
END:VCALENDAR