BEGIN:VCALENDAR
VERSION:2.0
PRODID:-//Living Lakes Canada - ECPv6.15.16//NONSGML v1.0//EN
CALSCALE:GREGORIAN
METHOD:PUBLISH
X-ORIGINAL-URL:https://livinglakescanada.ca
X-WR-CALDESC:Events for Living Lakes Canada
REFRESH-INTERVAL;VALUE=DURATION:PT1H
X-Robots-Tag:noindex
X-PUBLISHED-TTL:PT1H
BEGIN:VTIMEZONE
TZID:America/Edmonton
BEGIN:DAYLIGHT
TZOFFSETFROM:-0700
TZOFFSETTO:-0600
TZNAME:MDT
DTSTART:20240310T090000
END:DAYLIGHT
BEGIN:STANDARD
TZOFFSETFROM:-0600
TZOFFSETTO:-0700
TZNAME:MST
DTSTART:20241103T080000
END:STANDARD
BEGIN:DAYLIGHT
TZOFFSETFROM:-0700
TZOFFSETTO:-0600
TZNAME:MDT
DTSTART:20250309T090000
END:DAYLIGHT
BEGIN:STANDARD
TZOFFSETFROM:-0600
TZOFFSETTO:-0700
TZNAME:MST
DTSTART:20251102T080000
END:STANDARD
BEGIN:DAYLIGHT
TZOFFSETFROM:-0700
TZOFFSETTO:-0600
TZNAME:MDT
DTSTART:20260308T090000
END:DAYLIGHT
BEGIN:STANDARD
TZOFFSETFROM:-0600
TZOFFSETTO:-0700
TZNAME:MST
DTSTART:20261101T080000
END:STANDARD
END:VTIMEZONE
BEGIN:VEVENT
DTSTART;TZID=America/Edmonton:20250425T110000
DTEND;TZID=America/Edmonton:20250425T190000
DTSTAMP:20260422T032105
CREATED:20250429T171851Z
LAST-MODIFIED:20250511T005451Z
UID:10000008-1745578800-1745607600@livinglakescanada.ca
SUMMARY:Ember Stomp
DESCRIPTION:Ember Stomp 2025 is the second annual Wildfire Community Preparedness Event hosted by the East Kootenay FireSmart Program in Jaffray\, British Columbia. The event will include educational presentations\, interactive exhibits\, and family activities suitable for all ages. Living Lakes Canada will be hosting a booth at this event.
URL:https://livinglakescanada.ca/event-featured/ember-stomp
LOCATION:Jaffray Community Hal\, 7369 Jaffray Village Loop Rd\, Jaffray\, B.C.\, V0B 1T0\, Canada
END:VEVENT
END:VCALENDAR