BEGIN:VCALENDAR
VERSION:2.0
PRODID:-//Living Lakes Canada - ECPv6.15.16//NONSGML v1.0//EN
CALSCALE:GREGORIAN
METHOD:PUBLISH
X-WR-CALNAME:Living Lakes Canada
X-ORIGINAL-URL:https://livinglakescanada.ca
X-WR-CALDESC:Events for Living Lakes Canada
REFRESH-INTERVAL;VALUE=DURATION:PT1H
X-Robots-Tag:noindex
X-PUBLISHED-TTL:PT1H
BEGIN:VTIMEZONE
TZID:America/Vancouver
BEGIN:DAYLIGHT
TZOFFSETFROM:-0800
TZOFFSETTO:-0700
TZNAME:PDT
DTSTART:20240310T100000
END:DAYLIGHT
BEGIN:STANDARD
TZOFFSETFROM:-0700
TZOFFSETTO:-0800
TZNAME:PST
DTSTART:20241103T090000
END:STANDARD
BEGIN:DAYLIGHT
TZOFFSETFROM:-0800
TZOFFSETTO:-0700
TZNAME:PDT
DTSTART:20250309T100000
END:DAYLIGHT
BEGIN:STANDARD
TZOFFSETFROM:-0700
TZOFFSETTO:-0800
TZNAME:PST
DTSTART:20251102T090000
END:STANDARD
BEGIN:DAYLIGHT
TZOFFSETFROM:-0800
TZOFFSETTO:-0700
TZNAME:PDT
DTSTART:20260308T100000
END:DAYLIGHT
BEGIN:STANDARD
TZOFFSETFROM:-0700
TZOFFSETTO:-0800
TZNAME:PST
DTSTART:20261101T090000
END:STANDARD
END:VTIMEZONE
BEGIN:VEVENT
DTSTART;TZID=America/Vancouver:20250619T080000
DTEND;TZID=America/Vancouver:20250619T130000
DTSTAMP:20260422T050933
CREATED:20250518T180711Z
LAST-MODIFIED:20250518T180818Z
UID:10000022-1750320000-1750338000@livinglakescanada.ca
SUMMARY:Vernon Farmers Market - FIMP Community Outreach
DESCRIPTION:On June 19th the Foreshore Integrated Management Planning (FIMP) team will be at the Vernon Farmers Market to engage with community members and discuss the upcoming survey of local Wood and Kalamalka Lakes this summer. \nContact email: FIMP@livinglakescanada.ca
URL:https://livinglakescanada.ca/event-featured/vernon-farmers-market-fimp-community-outreach
LOCATION:Kal Tire Place\, 3445 43rd Ave\, Vernon\, B.C.\, V1T 8P5\, Canada
END:VEVENT
END:VCALENDAR