BEGIN:VCALENDAR
VERSION:2.0
PRODID:-//Living Lakes Canada - ECPv6.15.16//NONSGML v1.0//EN
CALSCALE:GREGORIAN
METHOD:PUBLISH
X-ORIGINAL-URL:https://livinglakescanada.ca
X-WR-CALDESC:Events for Living Lakes Canada
REFRESH-INTERVAL;VALUE=DURATION:PT1H
X-Robots-Tag:noindex
X-PUBLISHED-TTL:PT1H
BEGIN:VTIMEZONE
TZID:America/Edmonton
BEGIN:DAYLIGHT
TZOFFSETFROM:-0700
TZOFFSETTO:-0600
TZNAME:MDT
DTSTART:20240310T090000
END:DAYLIGHT
BEGIN:STANDARD
TZOFFSETFROM:-0600
TZOFFSETTO:-0700
TZNAME:MST
DTSTART:20241103T080000
END:STANDARD
BEGIN:DAYLIGHT
TZOFFSETFROM:-0700
TZOFFSETTO:-0600
TZNAME:MDT
DTSTART:20250309T090000
END:DAYLIGHT
BEGIN:STANDARD
TZOFFSETFROM:-0600
TZOFFSETTO:-0700
TZNAME:MST
DTSTART:20251102T080000
END:STANDARD
BEGIN:DAYLIGHT
TZOFFSETFROM:-0700
TZOFFSETTO:-0600
TZNAME:MDT
DTSTART:20260308T090000
END:DAYLIGHT
BEGIN:STANDARD
TZOFFSETFROM:-0600
TZOFFSETTO:-0700
TZNAME:MST
DTSTART:20261101T080000
END:STANDARD
END:VTIMEZONE
BEGIN:VEVENT
DTSTART;TZID=America/Edmonton:20250527T100000
DTEND;TZID=America/Edmonton:20250527T140000
DTSTAMP:20260422T015352
CREATED:20250518T193523Z
LAST-MODIFIED:20250521T151408Z
UID:10000023-1748340000-1748354400@livinglakescanada.ca
SUMMARY:Fire\, Water\, Land and Air: Piikani Climate Risks and Strategic Workshop
DESCRIPTION:Living Lakes Canada will be presenting at the Fire\, Water\, Land and Air: Piikani Climate Risks and Strategic Workshop hosted by The Resilience Institute. This workshop will include presentations and handouts on the climate risks facing Piikani and open up discussion around what is currently being done to address these risks as well as new potential risk mitigation strategies. This event is invite-only. \nContact email: kat@livinglakescanada.ca
URL:https://livinglakescanada.ca/event-featured/fire-water-land-and-air-piikani-climate-risks-and-strategic-workshop
END:VEVENT
END:VCALENDAR